BEGIN:VCALENDAR
METHOD:PUBLISH
PRODID:-//LogicWorks GmbH//NONSGML Contentory//EN
VERSION:2.0
BEGIN:VEVENT
DTSTAMP:20260423T171735Z
SUMMARY:Webinar: Energie- und Verkehrswende in Zeiten der Energiekrise – Was bew
 egt die Menschen in Deutschland?
DESCRIPTION:Das Kopernikus-Projekt Ariadne untersucht mithilfe des Sozialen Nachhaltig
 keitsbarometers alljährlich die gesellschaftlichen Aspekte der Energie- u
 nd Verkehrswende. Auf Basis einer bundesweit repräsentativen Panelbefragu
 ng lassen sich so Einstellungen\, Wünsche und Bewertungen der deutschen B
 evölkerung in die praktische Umsetzung übertragen.
LOCATION:online (Zoom)
CREATED:20230620T131327
LAST-MODIFIED:20230620T150449
DTSTART;VALUE=DATE:20230704T180000
DTEND;VALUE=DATE:20230704T201500
UID:sn_396@logic-works.net
END:VEVENT
END:VCALENDAR