BEGIN:VCALENDAR
METHOD:PUBLISH
PRODID:-//LogicWorks GmbH//NONSGML Contentory//EN
VERSION:2.0
BEGIN:VEVENT
DTSTAMP:20260423T153952Z
SUMMARY:P2X bei der Langen Nacht der Wissenschaften in Rostock
DESCRIPTION:An der Station des Leibnitz-Institut für Katalyse (LIKAT) können Besuche
 nde der Langen Nacht der Wissenschaften eine virtuelle Zukunft im Jahr 204
 5 erkunden.
LOCATION:Leibniz-Institut für Katalyse (LIKAT)
CREATED:20240416T143511
LAST-MODIFIED:20240416T145728
DTSTART;VALUE=DATE:20230418T160000
DTEND;VALUE=DATE:20230418T220000
UID:sn_465@logic-works.net
END:VEVENT
END:VCALENDAR