BEGIN:VCALENDAR
METHOD:PUBLISH
PRODID:-//LogicWorks GmbH//NONSGML Contentory//EN
VERSION:2.0
BEGIN:VEVENT
DTSTAMP:20260423T153919Z
SUMMARY:SynErgie-Promovierendenseminar
DESCRIPTION:In diesem Jahr findet das Promovierendenseminar des Kopernikus-Projekts Sy
 nErgie bereits zum siebten Mal statt. Es bietet eine Plattform für Doktor
 andinnen und Doktoranden\, die an SynErgie-Themen arbeiten\, um sich mit a
 nderen Forschenden auszutauschen.
LOCATION:Institut für Energieeffizienz in der Produktion (EEP)
CREATED:20230829T112310
LAST-MODIFIED:20230829T130325
DTSTART;VALUE=DATE:20231004T100000
DTEND;VALUE=DATE:20231004T170000
UID:sn_411@logic-works.net
END:VEVENT
END:VCALENDAR