BEGIN:VCALENDAR
METHOD:PUBLISH
PRODID:-//LogicWorks GmbH//NONSGML Contentory//EN
VERSION:2.0
CALSCALE:GREGORIAN
X-MS-OLK-FORCEINSPECTOROPEN:TRUE
BEGIN:VEVENT
DTSTAMP:20260422T113658Z
SUMMARY:Bürgergipfel - Treffen der Beteiligten in Berlin
DESCRIPTION:Menschen\, die sich bisher schon in den Bürgerbeteiligungsprozess des Kop
 ernikus-Projekts Ariadne eingebracht haben\, dürfen sich auf den letzten 
 Freitag im März freuen. Dann nämlich treffen sie sich in Berlin zum Proz
 essfinale: Beim Bürgergipfel stehen Diskussion und Meinungsaustausch im M
 ittelpunkt.
LOCATION:Berlin
CREATED:20230316T084344
LAST-MODIFIED:20230316T090342
DTSTART;VALUE=DATE:20230324T000000
DTEND;VALUE=DATE:20230324T235959
UID:sn_360_date_0@logic-works.net
END:VEVENT
END:VCALENDAR