BEGIN:VCALENDAR
METHOD:PUBLISH
PRODID:-//LogicWorks GmbH//NONSGML Contentory//EN
VERSION:2.0
BEGIN:VEVENT
DTSTAMP:20260423T153951Z
SUMMARY:Ariadne-Webinar: Fokusthema Erneuerbare Energien
DESCRIPTION:Welche Konsequenzen hÃ¤tte das fÃ¼r Strompreise\, FÃ¶rderkosten und Klimaw
 irkung\, wenn der Ausbau der Erneuerbaren Energien bis 2030 geringer ausfÃ
 ¤llt als derzeit geplant? Das Kopernikus-Projekt Ariadne stellt eine neue 
 Studie vor und diskutiert mÃ¶gliche Anpassungen der Ausbaupfade.
LOCATION:online
CREATED:20251208T123906
LAST-MODIFIED:20251208T140227
DTSTART;VALUE=DATE:20251216T100000
DTEND;VALUE=DATE:20251216T104500
UID:sn_855@logic-works.net
END:VEVENT
END:VCALENDAR