BEGIN:VCALENDAR
METHOD:PUBLISH
PRODID:-//LogicWorks GmbH//NONSGML Contentory//EN
VERSION:2.0
BEGIN:VEVENT
DTSTAMP:20260423T154345Z
SUMMARY:Ariadne:Â Diskussion desÂ â€žClean Industrial Dealâ€œ
DESCRIPTION:Ariadne analyisert den kÃ¼rzlich verabschiedeten â€žClean Industrial Dealâ
 €œÂ in Hinblick aufÂ WettbewerbsfÃ¤higkeit\, Dekarbonisierung und bezahlba
 re Energie.
LOCATION:EuropÃ¤isches Haus (1. Stock)
CREATED:20250310T120104
LAST-MODIFIED:20250310T123028
DTSTART;VALUE=DATE:20250326T150000
DTEND;VALUE=DATE:20250326T170000
UID:sn_604@logic-works.net
END:VEVENT
END:VCALENDAR