BEGIN:VCALENDAR
METHOD:PUBLISH
PRODID:-//LogicWorks GmbH//NONSGML Contentory//EN
VERSION:2.0
BEGIN:VEVENT
DTSTAMP:20260423T153531Z
SUMMARY:Webinar: Mapping Variation in Institutions for Climate Policymaking
DESCRIPTION:Was sind eigentlich Klima-Institutionen? Welche Auswirkungen haben diese a
 uf die Klimapolitik? Und welche Erkenntnisse lassen sich daraus für die d
 eutsche Klimagovernance ableiten? Forschende aus dem Kopernikus-Projekt Ar
 iadne präsentieren in einem Webinar Antworten auf diese und weitere Frage
 n rund um das Thema Klimapolitik.
LOCATION:online (Zoom)
CREATED:20231004T165831
LAST-MODIFIED:20231006T114342
DTSTART;VALUE=DATE:20231010T143000
DTEND;VALUE=DATE:20231010T154500
UID:sn_419@logic-works.net
END:VEVENT
END:VCALENDAR