BEGIN:VCALENDAR
METHOD:PUBLISH
PRODID:-//LogicWorks GmbH//NONSGML Contentory//EN
VERSION:2.0
CALSCALE:GREGORIAN
X-MS-OLK-FORCEINSPECTOROPEN:TRUE
BEGIN:VEVENT
DTSTAMP:20260422T005921Z
SUMMARY:Ariadne: Webinar zur Finanzierung von Klimaschutzmaßnahmen
DESCRIPTION:Wie lassen sich politische Maßnahmen und nachhaltige Infrastruktur so fi
 nanzieren\, dass sie effektiven Klimaschutz voranbringen\, wirtschaftlich 
 tragfähig sind und gleichzeitig breite gesellschaftliche Akzeptanz finden
 ? Das Kopernikus-Projekt Ariadne lädt dazu ein\, diese zentralen Fragen i
 n einem interaktiven Webinar zu diskutieren.
LOCATION:online
CREATED:20250113T115749
LAST-MODIFIED:20250113T142044
DTSTART;VALUE=DATE:20250123T090000
DTEND;VALUE=DATE:20250123T103000
UID:sn_577_date_0@logic-works.net
END:VEVENT
END:VCALENDAR