BEGIN:VCALENDAR
METHOD:PUBLISH
PRODID:-//LogicWorks GmbH//NONSGML Contentory//EN
VERSION:2.0
BEGIN:VEVENT
DTSTAMP:20260423T154037Z
SUMMARY:Ariadne: Webinarreihe zur Kosteneffizienz von Klimaneutralitätspfaden
DESCRIPTION:Der neue Szenarienreport von Ariadne vergleicht fünf Pfade zu einer klima
 neutralen Zukunft.  An zwei Tagen beleuchten insgesamt fünf Webinare unt
 erschiedliche Aspekte des Reports.
LOCATION:online
CREATED:20250304T164926
LAST-MODIFIED:20250306T094027
DTSTART;VALUE=DATE:20250306T100000
DTEND;VALUE=DATE:20250307T134500
UID:sn_598@logic-works.net
END:VEVENT
END:VCALENDAR