BEGIN:VCALENDAR
METHOD:PUBLISH
PRODID:-//LogicWorks GmbH//NONSGML Contentory//EN
VERSION:2.0
BEGIN:VEVENT
DTSTAMP:20260423T153725Z
SUMMARY:Ariadne: Webinar  zum Thema Klimaschutzmaßnahmen fair finanzieren
DESCRIPTION:Wie können politische Maßnahmen und nachhaltige Infrastruktur so finanz
 iert werden\, dass sie effektiven Klimaschutz voranbringen\, wirtschaftlic
 h tragfähig sind und gleichzeitig breite gesellschaftliche Akzeptanz find
 en? Das Kopernikus-Projekt Ariadne lädt Sie ein\, diese zentralen Fragen 
 in einem interaktiven Webinar zu erörtern.
LOCATION:online
CREATED:20241210T133635
LAST-MODIFIED:20250113T130727
DTSTART;VALUE=DATE:20241211T140000
DTEND;VALUE=DATE:20241211T150000
UID:sn_571@logic-works.net
END:VEVENT
END:VCALENDAR