BEGIN:VCALENDAR
METHOD:PUBLISH
PRODID:-//LogicWorks GmbH//NONSGML Contentory//EN
VERSION:2.0
BEGIN:VEVENT
DTSTAMP:20260423T172519Z
SUMMARY:Ariadne: Gast beim Statistik-Kolloquium
DESCRIPTION:Prof. Dr. Manuel Frondel vom RWI – Leibniz-Institut für Wirtschaftsfors
 chung e. V. und Ruhr-Universität Bochum präsentiert das Wärme- und Wohn
 en-Panel und andere Erhebungen des RWI auf dem 33. Wissenschaftlichen Ko
 lloquium „Energiewende und Energiepreiskrise – zur Rolle der Daten“.
LOCATION:hybrid (im Museum Wiesbaden und per Livestream)
CREATED:20240924T115428
LAST-MODIFIED:20240925T121000
DTSTART;VALUE=DATE:20241128T154500
DTEND;VALUE=DATE:20241128T160500
UID:sn_522@logic-works.net
END:VEVENT
END:VCALENDAR