BEGIN:VCALENDAR
METHOD:PUBLISH
PRODID:-//LogicWorks GmbH//NONSGML Contentory//EN
VERSION:2.0
BEGIN:VEVENT
DTSTAMP:20260423T172426Z
SUMMARY:Digitaler Dialog „Deutschland auf dem Weg zur Klimaneutralität 2045“:
  Forschungs- und Innovationsprioritäten
DESCRIPTION:Bis 2045 eine vollständig klimaneutrale Wirtschaft aufzubauen und dafür 
 Erneuerbare Energien in alle Sektoren zu bringen\, ist eine Mammutaufgabe.
  Forschung und Innovation können dazu beitragen\, sie erfolgreich zu meis
 tern. Welche Forschungs- und Innovationsprioritäten hierfür notwendig si
 nd und wie die Forschungs-\, Wissenschafts- und Innovationspolitik der nä
 chsten Jahre ausgestaltet werden sollte\, diskutiert das Ariadne-Projekt m
 it Vertretern des Bundesministeriums für Bildung und Forschung (BMBF) sow
 ie der Wirtschaft und der Forschungspolitik.
LOCATION:Online
CREATED:20211028T160427
LAST-MODIFIED:20211028T162919
DTSTART;VALUE=DATE:20211104T100000
DTEND;VALUE=DATE:20211104T113000
UID:sn_236@logic-works.net
END:VEVENT
END:VCALENDAR