BEGIN:VCALENDAR
METHOD:PUBLISH
PRODID:-//LogicWorks GmbH//NONSGML Contentory//EN
VERSION:2.0
BEGIN:VEVENT
DTSTAMP:20260425T124401Z
SUMMARY:Ariadne-Fokusseminar: Wasserstoff und eFuels
DESCRIPTION:Das Ariadne-Kurzdossier „Durchstarten trotz Unsicherheiten: Eckpunkte ei
 ner anpassungsfähigen Wasserstoffstrategie. Wie die Politik Wasserstoffpf
 ade hin zur Klimaneutralität 2045 finden kann“ erscheint am 16.11.2021.
  Im Webinar stellen die Studien-Autoren die Inhalte von konkurrierenden Le
 itbildern in der Wasserstoffdebatte über die Szenario-Bandbreite und tech
 no-ökonomische Unsicherheiten vor und diskutieren\, wie die Politik trotz
  großer verbleibender Unwägbarkeiten schnell zu robusten Entscheidungen 
 kommen kann.
LOCATION:Online
CREATED:20211112T131117
LAST-MODIFIED:20211112T133642
DTSTART;VALUE=DATE:20211117T100000
DTEND;VALUE=DATE:20211117T113000
UID:sn_242@logic-works.net
END:VEVENT
END:VCALENDAR