BEGIN:VCALENDAR
METHOD:PUBLISH
PRODID:-//LogicWorks GmbH//NONSGML Contentory//EN
VERSION:2.0
BEGIN:VEVENT
DTSTAMP:20260425T124239Z
SUMMARY:Ariadne-Fokuswebinar Verkehrswende
DESCRIPTION:Mit dem Fokus auf die Verkehrsnachfrage im Personen- und Güterverkehr und
  der Entwicklung von Pkw- und Lkw-Flotten zeigt das Kopernikus-Projekt Ari
 adne in diesem Webinar\, welche Auswirkungen unterschiedliche Pfade auf d
 ie Energienachfrage und Emissionen haben. Außerdem besprechen Ariadne-wis
 senschaftler Maßnahmen und Instrumente\, die für die Erreichung des 2045
 -Ziels besonders wichtig sind.
LOCATION:Online
CREATED:20211112T132225
LAST-MODIFIED:20211112T132225
DTSTART;VALUE=DATE:20211117T140000
DTEND;VALUE=DATE:20211117T153000
UID:sn_243@logic-works.net
END:VEVENT
END:VCALENDAR