BEGIN:VCALENDAR
METHOD:PUBLISH
PRODID:-//LogicWorks GmbH//NONSGML Contentory//EN
VERSION:2.0
BEGIN:VEVENT
DTSTAMP:20260423T172818Z
SUMMARY:Ariadne-Szenarien Klimaneutralität 2045: Fokuswebinar Ausbau erneuerbare 
 Energien und Sektorkopplung
DESCRIPTION:Das Kopernikus-Projekt Ariadne zeigt mit seinem Bericht „Deutschland auf
  dem Weg zur Klimaneutralität 2045“\, welche Herausforderungen\, Spielr
 äume und Engpässe bestehen\, um die Klimaziele zu erreichen. Was das fü
 r die Sektoren Industrie und Gebäude bedeutet und wie schnell der Ausbau 
 der erneuerbaren Energien und die Sektorkopplung erfolgen sollte\, erläut
 ern Ariadne-Forscherinnen und -Forscher in Fokuswebinaren. Externe Experti
 nnen und Experten aus den jeweiligen Sektoren kommentieren die Ergebnisse\
 , die anschließend gemeinsam mit den Teilnehmenden diskutiert werden.
LOCATION:Online
CREATED:20211020T171346
LAST-MODIFIED:20211020T171703
DTSTART;VALUE=DATE:20211029T100000
DTEND;VALUE=DATE:20211029T113000
UID:sn_234@logic-works.net
END:VEVENT
END:VCALENDAR