BEGIN:VCALENDAR
METHOD:PUBLISH
PRODID:-//LogicWorks GmbH//NONSGML Contentory//EN
VERSION:2.0
BEGIN:VEVENT
DTSTAMP:20260425T131613Z
SUMMARY:Soziales Nachhaltigkeitsbarometer 2021 – Was die Bürgerinnen und Bürge
 r bei der Energie- und Verkehrswende bewegt
DESCRIPTION:Das Soziale Nachhaltigkeitsbarometer ist eine vom Ariadne-Projektpartner\,
  dem Institut für transformative Nachhaltigkeitsforschung (IASS)\, durchg
 eführte\, bundesweit repräsentative Befragung über die Vorstellungen\, 
 Anliegen und Erfahrungen der deutschen Bevölkerung im Kontext der Energie
 - und Verkehrswende. Die Untersuchung wurde zu Beginn dieses Jahres zum in
 sgesamt vierten Mal durchgeführt.
LOCATION:Online
CREATED:20211019T154850
LAST-MODIFIED:20211019T155730
DTSTART;VALUE=DATE:20211028T180000
DTEND;VALUE=DATE:20211028T200000
UID:sn_230@logic-works.net
END:VEVENT
END:VCALENDAR