BEGIN:VCALENDAR
METHOD:PUBLISH
PRODID:-//LogicWorks GmbH//NONSGML Contentory//EN
VERSION:2.0
BEGIN:VEVENT
DTSTAMP:20260423T153726Z
SUMMARY:Energie- und Verkehrswende in Zeiten der Energiekrise - Ergebnisse der Pan
 elstudie des Sozialen Nachhaltigkeitsbarometers 2022 im Diskurs
DESCRIPTION:Das Kopernikus-Projekt Ariadne untersucht mithilfe des Sozialen Nachhaltig
 keitsbarometers die gesellschaftlichen Dimensionen der Energie- und Verkeh
 rswende. Auf Basis einer bundesweit repräsentativen Panelbefragung lasse
 n sich Einstellungen\, Anliegen und Bewertungen der deutschen Bevölkerung
  zur Ausgestaltung und Umsetzung ableiten.
LOCATION:Online (Zoom)
CREATED:20220915T164432
LAST-MODIFIED:20220915T165550
DTSTART;VALUE=DATE:20221004T170000
DTEND;VALUE=DATE:20221004T190000
UID:sn_289@logic-works.net
END:VEVENT
END:VCALENDAR