BEGIN:VCALENDAR
METHOD:PUBLISH
PRODID:-//LogicWorks GmbH//NONSGML Contentory//EN
VERSION:2.0
BEGIN:VEVENT
DTSTAMP:20260424T020229Z
SUMMARY:Power2Change: Energiemobil erneut unterwegs
DESCRIPTION:Sich über die Energiewende informieren\, sich austauschen\, nachfragen un
 d diskutieren – das können Interessierte im „Power2Change: Energiemob
 il“. Es bereist die Regionen\, in denen die Wanderausstellung „Power2C
 hange“ Station macht. Bis in den Mai hinein ist es im Osten des Landes u
 nterwegs.
LOCATION:Region Lausitz
CREATED:20240424T132749
LAST-MODIFIED:20240426T175902
DTSTART;VALUE=DATE:20240425T090000
DTEND;VALUE=DATE:20240526T163000
UID:sn_472@logic-works.net
END:VEVENT
END:VCALENDAR