BEGIN:VCALENDAR
METHOD:PUBLISH
PRODID:-//LogicWorks GmbH//NONSGML Contentory//EN
VERSION:2.0
BEGIN:VEVENT
DTSTAMP:20260423T172427Z
SUMMARY:Power2Change: Energiemobil wieder auf Tour
DESCRIPTION:Ab Mitte August ist das Energiemobil wieder unterwegs. Auftakt der neuen T
 our bildet der Tag der offenen Tür am Bundesministerium für Forschung\, 
 Technologie und Raumfahrt in Berlin. Anschließend geht es nach Sachsen un
 d Brandenburg.
LOCATION:Berlin\, Chemnitz und Peitz
CREATED:20250728T085609
LAST-MODIFIED:20250728T091100
DTSTART;VALUE=DATE:20250823T000000
DTEND;VALUE=DATE:20250830T235959
UID:sn_712@logic-works.net
END:VEVENT
END:VCALENDAR