BEGIN:VCALENDAR
METHOD:PUBLISH
PRODID:-//LogicWorks GmbH//NONSGML Contentory//EN
VERSION:2.0
BEGIN:VEVENT
DTSTAMP:20260425T234505Z
SUMMARY:Workshop mit Laborführung: Systemdienstleistungen im Stromnetz der Zukunf
 t
DESCRIPTION:Der Kopernikus-ENSURE Experten-Workshop thematisiert und diskutiert System
 dienstleistungen in unserem zukünftigen Stromnetz. Interessierten gewähr
 t er zudem Einblicke in die Labore des IAEW.
LOCATION:IAEW der RWTH Aachen
CREATED:20240223T080157
LAST-MODIFIED:20240223T090400
DTSTART;VALUE=DATE:20240423T153000
DTEND;VALUE=DATE:20240423T173000
UID:sn_448@logic-works.net
END:VEVENT
END:VCALENDAR