BEGIN:VCALENDAR
METHOD:PUBLISH
PRODID:-//LogicWorks GmbH//NONSGML Contentory//EN
VERSION:2.0
CALSCALE:GREGORIAN
X-MS-OLK-FORCEINSPECTOROPEN:TRUE
BEGIN:VEVENT
DTSTAMP:20260419T170347Z
SUMMARY:ENSURE wieder zu Gast im OecherLab
DESCRIPTION:Das Kopernikus-Projekt ENSURE wirkt erneut an einem Zukunftsraum im Oech
 erLab mit. Unter dem Titel „Aachen 2030 – Klimaneutral\, aber wie?“
  machen Exponate dort den städtischen Weg zur Klimaneutralität erlebbar.
LOCATION:OecherLab
CREATED:20241104T143500
LAST-MODIFIED:20250116T093332
DTSTART;VALUE=DATE:20241112T110000
DTEND;VALUE=DATE:20250220T170000
UID:sn_552_date_0@logic-works.net
END:VEVENT
END:VCALENDAR