BEGIN:VCALENDAR
METHOD:PUBLISH
PRODID:-//LogicWorks GmbH//NONSGML Contentory//EN
VERSION:2.0
BEGIN:VEVENT
DTSTAMP:20260423T154216Z
SUMMARY:ENSURE bei der Wissenschaftsnacht der RWTH Aachen\r\n 
DESCRIPTION:Von Wasserstoff bis zur Schatzkammer des leeren Raums: Die Wissenschaftsna
 cht der RWTH Aachen hält auch dieses Jahr ein abwechslungsreiches Program
 m bereit. Das Kopernikus-Projekt ENSURE ist mit der interaktiven Führung
  „Kannst du Energiewende? Energie erleben und verstehen“ vertreten.
LOCATION:C.A.R.L. Hörsaalgebäude der RWTH Aachen
CREATED:20241104T125909
LAST-MODIFIED:20241104T140545
DTSTART;VALUE=DATE:20241108T201500
DTEND;VALUE=DATE:20241108T210000
UID:sn_550@logic-works.net
END:VEVENT
END:VCALENDAR