BEGIN:VCALENDAR
METHOD:PUBLISH
PRODID:-//LogicWorks GmbH//NONSGML Contentory//EN
VERSION:2.0
BEGIN:VEVENT
DTSTAMP:20260423T153407Z
SUMMARY:ENSURE: Lohnt sich ein Batteriespeicher für ihren Betrieb?
DESCRIPTION:Wie können Betriebe unabhängiger vom Energiemarkt werden? Welche Rolle s
 pielen Batteriespeicher dabei – und für wen lohnt sich die Investition?
  Diese und weiteren Fragen beantwortet das Kopernikus-Projekt ENSURE durch
  einen Workshop im OecherLab
LOCATION:OecherLab
CREATED:20250623T141408
LAST-MODIFIED:20250623T143512
DTSTART;VALUE=DATE:20250711T170000
DTEND;VALUE=DATE:20250711T200000
UID:sn_700@logic-works.net
END:VEVENT
END:VCALENDAR