BEGIN:VCALENDAR
METHOD:PUBLISH
PRODID:-//LogicWorks GmbH//NONSGML Contentory//EN
VERSION:2.0
BEGIN:VEVENT
DTSTAMP:20260423T125719Z
SUMMARY:ENSURE: Zu Gast in der INSPIRATA in Leipzig
DESCRIPTION:Als Ferienspecial ist der ENSURE Energiewende Explorer – ein mobiler Mi
 tmach-Tisch – zu Gast in der INSPIRATA in Leipzig. Besucherinnen und Bes
 ucher können spielerisch erkunden\, wie Energiewende-Technologien funktio
 nieren und welche Rolle sie im Alltag spielen.
LOCATION:inspirata
CREATED:20250923T130152
LAST-MODIFIED:20250924T112033
DTSTART;VALUE=DATE:20251009T100000
DTEND;VALUE=DATE:20251026T180000
UID:sn_777@logic-works.net
END:VEVENT
END:VCALENDAR