BEGIN:VCALENDAR
METHOD:PUBLISH
PRODID:-//LogicWorks GmbH//NONSGML Contentory//EN
VERSION:2.0
BEGIN:VEVENT
DTSTAMP:20260423T154113Z
SUMMARY:5. Kopernikus-Pressevormittag: „Bahn frei für Innovationen - Was sich j
 etzt in der Regulatorik ändern muss“
DESCRIPTION:Digitaler Kopernikus-Pressevormittag | Exklusives Hintergrundwissen von ho
 chrangigen Energie-Experten
LOCATION:Online
CREATED:20220307T154100
LAST-MODIFIED:20220307T154552
DTSTART;VALUE=DATE:20220328T110000
DTEND;VALUE=DATE:20220328T120000
UID:sn_261@logic-works.net
END:VEVENT
END:VCALENDAR