BEGIN:VCALENDAR
METHOD:PUBLISH
PRODID:-//LogicWorks GmbH//NONSGML Contentory//EN
VERSION:2.0
BEGIN:VEVENT
DTSTAMP:20260423T153751Z
SUMMARY:Webinar: Lokale Klimaschutzansichten in der Bevölkerung - Was regionale M
 einungsunterschiede für die Energiewende bedeuten
DESCRIPTION:Welche regionalen Meinungsunterschiede gibt es in der Bevölkerung zu einz
 elnen Energiewende-Maßnahmen? Zum Beispiel zum Kohleausstieg oder zum Tem
 polimit? In einer neuen Studie haben Ariadne-Forscher genau das ausgewerte
 t. In einem Webinar stellen sie die wichtigsten Ergebnisse vor.
LOCATION:Online
CREATED:20230306T140935
LAST-MODIFIED:20230306T142819
DTSTART;VALUE=DATE:20230309T100000
DTEND;VALUE=DATE:20230309T110000
UID:sn_355@logic-works.net
END:VEVENT
END:VCALENDAR