BEGIN:VCALENDAR
METHOD:PUBLISH
PRODID:-//LogicWorks GmbH//NONSGML Contentory//EN
VERSION:2.0
BEGIN:VEVENT
DTSTAMP:20260423T153609Z
SUMMARY:Kopernikus-Symposium 2024
DESCRIPTION:Welche technischen Lösungen gibt es für die Herausforderungen der Energi
 ewende? Was sind die politischen Rahmenbedingungen des Umstiegs auf erneue
 rbare Energien? Antworten auf diese und viele weitere Fragen erhalten alle
  Interessierten in Dialogformaten mit den Kopernikus-Projekten.
LOCATION:Tagungswerk Berlin
CREATED:20240326T153736
LAST-MODIFIED:20240327T133329
DTSTART;VALUE=DATE:20240702T090000
DTEND;VALUE=DATE:20240702T170000
UID:sn_456@logic-works.net
END:VEVENT
END:VCALENDAR