BEGIN:VCALENDAR
METHOD:PUBLISH
PRODID:-//LogicWorks GmbH//NONSGML Contentory//EN
VERSION:2.0
BEGIN:VEVENT
DTSTAMP:20260423T130735Z
SUMMARY:Kopernikus: Gemeinsam mit Carbon2Chem auf der ACHEMA
DESCRIPTION:Gemeinsam mit dem cross-industriellen Verbundprojekt Carbon2Chem präsenti
 eren drei der vier Kopernikus-Projekte sich auf der internationalen Leitme
 sse der Prozessindustrie\, dem Weltforum ACHEMA. P2X im Lead gewährt mit 
 SynErgie und ENSURE Einblicke in den Forschungsfortschritt.
LOCATION:ACHEMA\, Messe Frankfurt
CREATED:20240426T160423
LAST-MODIFIED:20240426T180102
DTSTART;VALUE=DATE:20240610T090000
DTEND;VALUE=DATE:20240614T180000
UID:sn_474@logic-works.net
END:VEVENT
END:VCALENDAR