BEGIN:VCALENDAR
METHOD:PUBLISH
PRODID:-//LogicWorks GmbH//NONSGML Contentory//EN
VERSION:2.0
BEGIN:VEVENT
DTSTAMP:20260425T123938Z
SUMMARY:Kopernikus-Presseclub: Impulse rund um §14a EnWG
DESCRIPTION:In dieser digitalen Veranstaltung für Journalistinnen und Journalisten of
 fenbaren hochrangige Fachleute aus allen Kopernikus-Projekten Hintergrundw
 issen aus verschiedenen Perspektiven. Die Informationen stehen den teilneh
 menden Medienschaffenden exklusiv zur Verfügung.
LOCATION:Online
CREATED:20240718T101154
LAST-MODIFIED:20240718T105352
DTSTART;VALUE=DATE:20240725T110000
DTEND;VALUE=DATE:20240725T120000
UID:sn_491@logic-works.net
END:VEVENT
END:VCALENDAR