BEGIN:VCALENDAR
METHOD:PUBLISH
PRODID:-//LogicWorks GmbH//NONSGML Contentory//EN
VERSION:2.0
BEGIN:VEVENT
DTSTAMP:20260423T154247Z
SUMMARY:Power2Change: Energiemobil fährt wieder
DESCRIPTION:Sich über die Energiewende informieren\, sich austauschen\, nachfragen un
 d diskutieren – das können Interessierte im „Power2Change: Energiemob
 il“. Es bereist die Regionen\, in denen die Wanderausstellung „Power2C
 hange“ Station macht. Seit August ist es in der Region Heilbronn unte
 rwegs.
LOCATION:Region Heilbronn
CREATED:20240730T132904
LAST-MODIFIED:20240815T101117
DTSTART;VALUE=DATE:20240822T090000
DTEND;VALUE=DATE:20240825T163000
UID:sn_509@logic-works.net
END:VEVENT
END:VCALENDAR