BEGIN:VCALENDAR
METHOD:PUBLISH
PRODID:-//LogicWorks GmbH//NONSGML Contentory//EN
VERSION:2.0
BEGIN:VEVENT
DTSTAMP:20260423T130434Z
SUMMARY:Power2Change: Energiemobil wieder unterwegs
DESCRIPTION:Sich über die Energiewende informieren\, sich austauschen\, nachfragen un
 d diskutieren – das können Interessierte im „Power2Change: Energiemob
 il“. Es bereist die Regionen\, in denen die Wanderausstellung „Power2C
 hange“ zu Gast sein wird.
LOCATION:Landkreis Vorpommern-Greifswald
CREATED:20230710T131755
LAST-MODIFIED:20230712T111300
DTSTART;VALUE=DATE:20230713T100000
DTEND;VALUE=DATE:20230728T180000
UID:sn_402@logic-works.net
END:VEVENT
END:VCALENDAR