BEGIN:VCALENDAR
METHOD:PUBLISH
PRODID:-//LogicWorks GmbH//NONSGML Contentory//EN
VERSION:2.0
BEGIN:VEVENT
DTSTAMP:20260423T172335Z
SUMMARY:Power2Change: Wo die Wanderausstellung Halt macht
DESCRIPTION:Die Energiewende von einem abstrakten Begriff zu einem Teil der Lebenswirk
 lichkeit aller Menschen in Deutschland werden zu lassen\, den sie begreife
 n und dessen Relevanz sie einordnen können: Das ist die Mission\, auf die
  sich die Ausstellung „Power2Change“ gemeinsam mit ihrem interaktiven 
 Energiemobil begibt.
LOCATION:Wolfsburg
CREATED:20230731T160039
LAST-MODIFIED:20240126T095116
DTSTART;VALUE=DATE:20230926T100000
DTEND;VALUE=DATE:20240204T180000
UID:sn_406@logic-works.net
END:VEVENT
END:VCALENDAR