BEGIN:VCALENDAR
METHOD:PUBLISH
PRODID:-//LogicWorks GmbH//NONSGML Contentory//EN
VERSION:2.0
BEGIN:VEVENT
DTSTAMP:20260423T130737Z
SUMMARY:Diskussion: Nachhaltige Luftfahrt – Was kann die Politik tun?
DESCRIPTION:In der Veranstaltungsreihe zum Thema „Nachhaltige Luftfahrt“ diskutier
 en Mitglieder des Deutschen Bundestages mit einem Wissenschaftler des Kope
 rnikus-Projektes P2X über die Zukunft des Fliegens.
LOCATION:Online
CREATED:20210401T003423
LAST-MODIFIED:20210419T104839
DTSTART;VALUE=DATE:20210520T100000
DTEND;VALUE=DATE:20210520T113000
UID:sn_179@logic-works.net
END:VEVENT
END:VCALENDAR