BEGIN:VCALENDAR
METHOD:PUBLISH
PRODID:-//LogicWorks GmbH//NONSGML Contentory//EN
VERSION:2.0
BEGIN:VEVENT
DTSTAMP:20260425T123215Z
SUMMARY:ENSURE bei der Langen Nacht der Wissenschaften in Nürnberg\, Fürth und E
 rlangen
DESCRIPTION:Immer mehr Verbraucher produzieren beispielsweise durch Photovoltaik-Anlag
 en selbst Strom. Die Energienetze müssen daher Strom nicht mehr nur von d
 en Kraftwerken zu den Verbrauchern transportieren können\, sondern auch i
 n die andere Richtung. ENSURE zeigt einen Blick in die Zukunft der Stromve
 rsorgung und der zahlreichen Möglichkeiten\, wie der Klimaschutz vorankom
 men kann.
LOCATION:Siemens Technology Center Erlangen
CREATED:20231013T102102
LAST-MODIFIED:20231013T111315
DTSTART;VALUE=DATE:20231021T170000
DTEND;VALUE=DATE:20231021T235959
UID:sn_421@logic-works.net
END:VEVENT
END:VCALENDAR