BEGIN:VCALENDAR
METHOD:PUBLISH
PRODID:-//LogicWorks GmbH//NONSGML Contentory//EN
VERSION:2.0
BEGIN:VEVENT
DTSTAMP:20260423T153817Z
SUMMARY:Power2Change: Energiemobil fährt wieder
DESCRIPTION:Sich über die Energiewende informieren\, austauschen\, nachfragen und dis
 kutieren – das können Interessierte im „Power2Change: Energiemobil“
 . Es bereist die Regionen\, in denen die Wanderausstellung „Power2Change
 “ Station macht. Ab dem 14. Juni ist es in Nordrhein-Westfalen unterwegs
 .
LOCATION:Region Nordrhein-Westfalen
CREATED:20250528T112040
LAST-MODIFIED:20250528T114301
DTSTART;VALUE=DATE:20250614T090000
DTEND;VALUE=DATE:20250714T163000
UID:sn_669@logic-works.net
END:VEVENT
END:VCALENDAR