BEGIN:VCALENDAR
METHOD:PUBLISH
PRODID:-//LogicWorks GmbH//NONSGML Contentory//EN
VERSION:2.0
BEGIN:VEVENT
DTSTAMP:20260423T153508Z
SUMMARY:Power2Change: Meet the Scientists auf der MS Wissenschaft
DESCRIPTION:Die MS Wissenschaft ist eine interaktive Ausstellung an Bord eines Schiffs
 . Vom 14. bis 18. Mai 2025 macht sie Halt in Berlin. Das bietet Interessie
 rten die Möglichkeit\, bei einem Meet the Scientists-Event einige Forsche
 nde hinter den Exponaten kennenzulernen.
LOCATION:MS Wissenschaft
CREATED:20250507T181307
LAST-MODIFIED:20250507T183550
DTSTART;VALUE=DATE:20250516T100000
DTEND;VALUE=DATE:20250516T150000
UID:sn_637@logic-works.net
END:VEVENT
END:VCALENDAR