BEGIN:VCALENDAR
METHOD:PUBLISH
PRODID:-//LogicWorks GmbH//NONSGML Contentory//EN
VERSION:2.0
BEGIN:VEVENT
DTSTAMP:20260423T125610Z
SUMMARY:Power2Change: Feierabendquiz auf der MS Wissenschaft
DESCRIPTION:Im Rahmen des Wissenschaftsjahres 2025 – Zukunftsenergie ist das Ausstel
 lungsschiff MS Wissenschaft auf großer Deutschland-Tour unterwegs. Mit an
  Bord sind drei Exponate der Kopernikus-Projekte.  Vom 28. Juni bis 1. Ju
 li 2025 macht die MS Wissenschaft Halt in Duisburg. Das bietet Interessier
 ten am 30. Juni die Möglichkeit\, ein spannendes Feierabendquiz zu besuch
 en.
LOCATION:MS Wissenschaft – Innenhafen\, am Kultur- und Stadthistorischen Museum
CREATED:20250519T120330
LAST-MODIFIED:20250519T172339
DTSTART;VALUE=DATE:20250630T190000
DTEND;VALUE=DATE:20250630T210000
UID:sn_647@logic-works.net
END:VEVENT
END:VCALENDAR