BEGIN:VCALENDAR
METHOD:PUBLISH
PRODID:-//LogicWorks GmbH//NONSGML Contentory//EN
VERSION:2.0
BEGIN:VEVENT
DTSTAMP:20260423T153510Z
SUMMARY:Power2Change: Energiewende auf dem Sportplatz
DESCRIPTION:Am Freitag\, 29. August\, und Samstag\, 30. August\, ist die Wanderausstel
 lung Power2Change zusammen mit dem Energiemobil zu Gast beim interaktiven
  Sport-Event „Peitz bewegt sich“.
LOCATION:Sportpark Peitz
CREATED:20250806T141000
LAST-MODIFIED:20250825T122737
DTSTART;VALUE=DATE:20250829T110000
DTEND;VALUE=DATE:20250830T170000
UID:sn_731@logic-works.net
END:VEVENT
END:VCALENDAR