BEGIN:VCALENDAR
METHOD:PUBLISH
PRODID:-//LogicWorks GmbH//NONSGML Contentory//EN
VERSION:2.0
BEGIN:VEVENT
DTSTAMP:20260423T223355Z
SUMMARY:Power2Change „Salon der Wissenschaft: Zukunft der Energie“
DESCRIPTION:Der „Salon der Wissenschaft“ gehört zum Rahmenprogramm der Ausstell
 ung „Power2Change“. Das Format ermöglicht es Interessierten\, die Zuk
 unft der Energie mit Forschenden aus unterschiedlichen Bereichen zu diskut
 ieren. Gemeinsam essen und trinken schließt den Abend ab.
LOCATION:Industriemuseum Chemnitz
CREATED:20241021T120447
LAST-MODIFIED:20241021T141706
DTSTART;VALUE=DATE:20241106T180000
DTEND;VALUE=DATE:20241106T220000
UID:sn_544@logic-works.net
END:VEVENT
END:VCALENDAR