BEGIN:VCALENDAR
METHOD:PUBLISH
PRODID:-//LogicWorks GmbH//NONSGML Contentory//EN
VERSION:2.0
BEGIN:VEVENT
DTSTAMP:20260423T153615Z
SUMMARY:Power2Change: Themenabend „Energiezukunft“
DESCRIPTION:Spätestens im Fall eines Stromausfalls begreift man die Wichtigkeit von s
 tabilen Energienetzen. Power2Change: Mission Energiewende diskutiert jetzt
  gemeinsam mit der Stadt Dortmund sowie weiteren Partnerinnen und Partnern
  aus Wissenschaft und Wirtschaft im Rahmen Wissenschaftsjahres 2025 – Zu
 kunftsenergie die spannendsten Aspekte unserer Energiezukunft.
LOCATION:DEW21
CREATED:20250528T132318
LAST-MODIFIED:20250528T133944
DTSTART;VALUE=DATE:20250616T164500
DTEND;VALUE=DATE:20250716T190000
UID:sn_672@logic-works.net
END:VEVENT
END:VCALENDAR