BEGIN:VCALENDAR
METHOD:PUBLISH
PRODID:-//LogicWorks GmbH//NONSGML Contentory//EN
VERSION:2.0
BEGIN:VEVENT
DTSTAMP:20260423T154129Z
SUMMARY:Power2Change bei der Langen Nacht der Wissenschaften Nürnberg
DESCRIPTION:Welche Rolle spielt eigentlich die Forschung für die Energiewende? Expert
 innen und Experten aus dem Bereich sind den ganzen Abend vor Ort\, erklär
 en Exponate und beantworten Fragen zur Energieforschung. Dazu gibt es ein 
 buntes Rahmenprogramm.
LOCATION:DB Museum Nürnberg
CREATED:20251008T113406
LAST-MODIFIED:20251008T120219
DTSTART;VALUE=DATE:20251025T150000
DTEND;VALUE=DATE:20251025T235900
UID:sn_796@logic-works.net
END:VEVENT
END:VCALENDAR