BEGIN:VCALENDAR
METHOD:PUBLISH
PRODID:-//LogicWorks GmbH//NONSGML Contentory//EN
VERSION:2.0
BEGIN:VEVENT
DTSTAMP:20260423T153340Z
SUMMARY:Power2Change: Diskussion in der Britischen Botschaft
DESCRIPTION:Angelehnt an Debatten des britischen Unterhauses diskutieren Fachleute die
  Rolle von Grünem Wasserstoff im Energiesystem der Zukunft. In der englis
 chsprachigen Veranstaltung geht es neben technischen Möglichkeiten auch u
 m öffentliche Akzeptanz.
LOCATION:Britische Botschaft Berlin
CREATED:20250728T154356
LAST-MODIFIED:20250730T102100
DTSTART;VALUE=DATE:20250925T180000
DTEND;VALUE=DATE:20250925T235959
UID:sn_715@logic-works.net
END:VEVENT
END:VCALENDAR