BEGIN:VCALENDAR
METHOD:PUBLISH
PRODID:-//LogicWorks GmbH//NONSGML Contentory//EN
VERSION:2.0
BEGIN:VEVENT
DTSTAMP:20260423T223518Z
SUMMARY:Power2Change macht Station in Nürnberg
DESCRIPTION:Die Energiewende von einem abstrakten Begriff zu einem Teil der Lebenswirk
 lichkeit aller Menschen in Deutschland werden zu lassen\, dessen Relevanz 
 sie einordnen können: Auf diese Mission begibt sich die Ausstellung „Po
 wer2Change“ gemeinsam mit ihrem interaktiven Energiemobil.
LOCATION:DB Museum Nürnberg
CREATED:20250423T155128
LAST-MODIFIED:20250423T155813
DTSTART;VALUE=DATE:20250529T090000
DTEND;VALUE=DATE:20251116T170000
UID:sn_627@logic-works.net
END:VEVENT
END:VCALENDAR