BEGIN:VCALENDAR
METHOD:PUBLISH
PRODID:-//LogicWorks GmbH//NONSGML Contentory//EN
VERSION:2.0
BEGIN:VEVENT
DTSTAMP:20260423T153608Z
SUMMARY:Auftakt der P2X Ringvorlesungen im Wintersemester 2024/2025: „Introduct
 ion to Power-to-X and Synthetic Fuels“ \r\n 
DESCRIPTION:Prof. Dr. Kirstin Hebenbrock und Prof. Dr. Peter Manshausen von der Provad
 is Hochschule eröffnen die Ringvorlesung mit einer Einführung in das Th
 ema Power-to-X und synthetische Kraftstoffe. Insgesamt finden zehn Vorlesu
 ngen statt.
LOCATION:digital
CREATED:20241002T113210
LAST-MODIFIED:20241007T115116
DTSTART;VALUE=DATE:20241106T173000
DTEND;VALUE=DATE:20241106T190000
UID:sn_526@logic-works.net
END:VEVENT
END:VCALENDAR