BEGIN:VCALENDAR
METHOD:PUBLISH
PRODID:-//LogicWorks GmbH//NONSGML Contentory//EN
VERSION:2.0
BEGIN:VEVENT
DTSTAMP:20260423T130441Z
SUMMARY:P2X Ringvorlesung: „Power-to-X: Impact on society/acceptance“\r\n 
DESCRIPTION:Irina Rau und Jan Hildebrand vom Institut für ZukunftsEnergie- und Stoffs
 tromsysteme (IZES) referieren im Rahmen der P2X Ringvorlesung über die g
 esellschaftliche Auswirkung von Power-to-X.
LOCATION:digital
CREATED:20241002T164406
LAST-MODIFIED:20250227T174524
DTSTART;VALUE=DATE:20250205T173000
DTEND;VALUE=DATE:20250205T190000
UID:sn_538@logic-works.net
END:VEVENT
END:VCALENDAR