BEGIN:VCALENDAR
METHOD:PUBLISH
PRODID:-//LogicWorks GmbH//NONSGML Contentory//EN
VERSION:2.0
BEGIN:VEVENT
DTSTAMP:20260423T130620Z
SUMMARY:P2X Ringvorlesung: „Power-to-X and electrolysis - Turning Steam into Ro
 cket Fuel“\r\n 
DESCRIPTION:Dr. Lambertus G. J. de Haart\, Abteilungsleiter der Elektrochemie am Forsc
 hungszentrum Jülich\, referiert im Rahmen der P2X Ringvorlesung über 
 die Entwicklung nachhaltiger Produktionsprozesse und die Rolle der Hochtem
 peratur-Co-Elektrolyse in der Synthesegaserzeugung für P2X-Technologien. 
 Der Vortrag richtet sich insbesondere an MINT-Studierende ab dem fünfte
 n Fachsemester.
LOCATION:digital
CREATED:20241112T114718
LAST-MODIFIED:20241112T123026
DTSTART;VALUE=DATE:20241120T173000
DTEND;VALUE=DATE:20241120T190000
UID:sn_564@logic-works.net
END:VEVENT
END:VCALENDAR