BEGIN:VCALENDAR
METHOD:PUBLISH
PRODID:-//LogicWorks GmbH//NONSGML Contentory//EN
VERSION:2.0
BEGIN:VEVENT
DTSTAMP:20260423T075756Z
SUMMARY:P2X-Ringvorlesung: „Hydrogen and Power-to-X in the future German energy
  system“
DESCRIPTION:Prof. Dr.-Ing. Michael Sterner referiert im Rahmen der P2X-Ringvorlesung z
 ur Rolle von Wasserstoff und Power-to-X-Technologien für das deutsche Ene
 rgiesystem der Zukunft.
LOCATION:digital
CREATED:20241220T154139
LAST-MODIFIED:20241220T154435
DTSTART;VALUE=DATE:20250116T173000
DTEND;VALUE=DATE:20250116T190000
UID:sn_575@logic-works.net
END:VEVENT
END:VCALENDAR