BEGIN:VCALENDAR
METHOD:PUBLISH
PRODID:-//LogicWorks GmbH//NONSGML Contentory//EN
VERSION:2.0
BEGIN:VEVENT
DTSTAMP:20260423T153920Z
SUMMARY:Workshop: Koalitionsvertrag: Was ändert sich bei Wasserstoffnutzung und P
 tX-Forschung?
DESCRIPTION:Das Kopernikus-Projekt P2X diskutiert mit Vertretern der Ampel-Koalition s
 owie Vertretern aus Wirtschaft und Zivilgesellschaft\, welche Änderungen 
 sich im Wasserstoffbereich aus dem neuen Koalitionsvertrag ergeben. 
LOCATION:Online
CREATED:20220110T204121
LAST-MODIFIED:20220110T204121
DTSTART;VALUE=DATE:20220131T160000
DTEND;VALUE=DATE:20220131T173000
UID:sn_250@logic-works.net
END:VEVENT
END:VCALENDAR