BEGIN:VCALENDAR
METHOD:PUBLISH
PRODID:-//LogicWorks GmbH//NONSGML Contentory//EN
VERSION:2.0
BEGIN:VEVENT
DTSTAMP:20260423T153654Z
SUMMARY:P2X-Ringvorlesung: Anmelden für die zweite Runde\r\n 
DESCRIPTION:Die P2X-Partnerin Provadis-Hochschule organisiert das digitale Angebot de
 r zehnteiligen P2X-Ringvorlesung\, die im Wintersemester 2025/2026 zum zwe
 iten Mal angeboten wird. Die Themen sind deckungsgleich mit denen im Vorja
 hr\, die Referierenden überwiegend die gleichen.
LOCATION:digital
CREATED:20250923T114901
LAST-MODIFIED:20251014T185620
DTSTART;VALUE=DATE:20251106T173000
DTEND;VALUE=DATE:20260129T190000
UID:sn_774@logic-works.net
END:VEVENT
END:VCALENDAR