BEGIN:VCALENDAR
METHOD:PUBLISH
PRODID:-//LogicWorks GmbH//NONSGML Contentory//EN
VERSION:2.0
CALSCALE:GREGORIAN
X-MS-OLK-FORCEINSPECTOROPEN:TRUE
BEGIN:VEVENT
DTSTAMP:20260421T103728Z
SUMMARY:P2X Sommerwerkstatt 2021
DESCRIPTION:Die beliebte P2X Sommerwerkstatt geht in die zweite Runde: Vom 22. bis 25.
  April 2021 laden der WWF Deutschland\, der DECHEMA e.V. und die Dr. Hans-
 Riegel-Stiftung Studierende ein\, mehr über Power-to-X-Technologien zu e
 rfahren. Schwerpunkt des kostenlosen Workshops: PtX-Anwendungen im Chemies
 ektor.
LOCATION:NRW
CREATED:20210121T115046
LAST-MODIFIED:20210121T115642
DTSTART;VALUE=DATE:20210422T090000
DTEND;VALUE=DATE:20210425T180000
UID:sn_170_date_0@logic-works.net
END:VEVENT
END:VCALENDAR